BEGIN:VCALENDAR
VERSION:2.0
PRODID:-//eventon.com NONSGML v1.0//EN
CALSCALE:GREGORIAN
METHOD:PUBLISH
BEGIN:VEVENT
UID:69e7d8ce8d503
DTSTAMP:20260421T200638Z
DTSTART:20240517T093000Z
DTEND:20240517T113000Z
LOCATION:Bike Mourne – Rostrevor Kilbroney Forest Park\,  80 Shore Road\,  Rostrevor\,  Newry BT34 3AA
SUMMARY:Come and Try eMTB – Rostrevor
DESCRIPTION:Come and Try eMTB – Rostrevor\nhttps://www.bikemourne.com/eve
 nts/come-and-try-emtb-rostrevor/var/ri-37.l-L1
URL:https://www.bikemourne.com/events/come-and-try-emtb-rostrevor/var/ri-37.l-L1
END:VEVENT
END:VCALENDAR