BEGIN:VCALENDAR
VERSION:2.0
PRODID:-//eventon.com NONSGML v1.0//EN
CALSCALE:GREGORIAN
METHOD:PUBLISH
BEGIN:VEVENT
UID:69e74c20c6a47
DTSTAMP:20260421T100624Z
DTSTART:20240404T090000Z
DTEND:20240404T120000Z
LOCATION:Bike Mourne - Newcastle Central Promenade\,  Newcastle\,  Co. Down BT33 0EU
SUMMARY:Easter Try Electric Biking - 4th April
DESCRIPTION:Easter Try Electric Biking - 4th April\nhttps://www.bikemourne.
 com/events/easter-try-electric-biking-4th-april/
URL:https://www.bikemourne.com/events/easter-try-electric-biking-4th-april/
END:VEVENT
END:VCALENDAR